BEGIN:VCALENDAR
VERSION:2.0
PRODID:-//Mayworks Kjipuktuk-Halifax - ECPv6.15.20//NONSGML v1.0//EN
CALSCALE:GREGORIAN
METHOD:PUBLISH
X-WR-CALNAME:Mayworks Kjipuktuk-Halifax
X-ORIGINAL-URL:https://mayworkskjipuktukhfx.ca
X-WR-CALDESC:Events for Mayworks Kjipuktuk-Halifax
REFRESH-INTERVAL;VALUE=DURATION:PT1H
X-Robots-Tag:noindex
X-PUBLISHED-TTL:PT1H
BEGIN:VTIMEZONE
TZID:America/Halifax
BEGIN:DAYLIGHT
TZOFFSETFROM:-0400
TZOFFSETTO:-0300
TZNAME:ADT
DTSTART:20180311T060000
END:DAYLIGHT
BEGIN:STANDARD
TZOFFSETFROM:-0300
TZOFFSETTO:-0400
TZNAME:AST
DTSTART:20181104T050000
END:STANDARD
BEGIN:DAYLIGHT
TZOFFSETFROM:-0400
TZOFFSETTO:-0300
TZNAME:ADT
DTSTART:20190310T060000
END:DAYLIGHT
BEGIN:STANDARD
TZOFFSETFROM:-0300
TZOFFSETTO:-0400
TZNAME:AST
DTSTART:20191103T050000
END:STANDARD
BEGIN:DAYLIGHT
TZOFFSETFROM:-0400
TZOFFSETTO:-0300
TZNAME:ADT
DTSTART:20200308T060000
END:DAYLIGHT
BEGIN:STANDARD
TZOFFSETFROM:-0300
TZOFFSETTO:-0400
TZNAME:AST
DTSTART:20201101T050000
END:STANDARD
END:VTIMEZONE
BEGIN:VEVENT
DTSTART;TZID=America/Halifax:20190509T200000
DTEND;TZID=America/Halifax:20190509T213000
DTSTAMP:20260422T195409
CREATED:20190410T162611Z
LAST-MODIFIED:20190410T164401Z
UID:10000195-1557432000-1557437400@mayworkskjipuktukhfx.ca
SUMMARY:Songs of Resilience: Bringing Voice to Protest Music (NSGEU Convention)
DESCRIPTION:May 4th\, 7:00pm @ St-Andrew’s United Church | May 9th\, 8:00pm @ Halifax Convention Centre\nCelebrating song as a tool for social change movements with Polaris Choir\nFeaturing chants\, protest songs\, contemporary choral works\, and a choir-created arrangement\, listeners will be transported throughout the past hundred years and invited to reflect on social movements that have impacted the Nova Scotia region. \nPolaris is Choirs for Change’s high-intensity adult community choir led by Jack Bennet\, Sanford Hare\, and Emma Norton. \n*A special second performance of this event will take part during the NSGEU Convention at the Halifax Convention Centre. The performance will be free for attending NSGEU delegates and open to the general public through the purchase of $15 tickets. \nPresented by \n \n  \n  \n  \nWith support from
URL:https://mayworkskjipuktukhfx.ca/event/songs-of-resilience-bringing-voice-to-protest-music-nsgeu-convention/
CATEGORIES:Music
ATTACH;FMTTYPE=image/png:https://mayworkskjipuktukhfx.ca/app/uploads/2019/04/Choirs_banner.png
END:VEVENT
END:VCALENDAR