BEGIN:VCALENDAR
VERSION:2.0
PRODID:-//Mayworks Kjipuktuk-Halifax - ECPv6.15.20//NONSGML v1.0//EN
CALSCALE:GREGORIAN
METHOD:PUBLISH
X-ORIGINAL-URL:https://mayworkskjipuktukhfx.ca
X-WR-CALDESC:Events for Mayworks Kjipuktuk-Halifax
REFRESH-INTERVAL;VALUE=DURATION:PT1H
X-Robots-Tag:noindex
X-PUBLISHED-TTL:PT1H
BEGIN:VTIMEZONE
TZID:America/Halifax
BEGIN:DAYLIGHT
TZOFFSETFROM:-0400
TZOFFSETTO:-0300
TZNAME:ADT
DTSTART:20180311T060000
END:DAYLIGHT
BEGIN:STANDARD
TZOFFSETFROM:-0300
TZOFFSETTO:-0400
TZNAME:AST
DTSTART:20181104T050000
END:STANDARD
BEGIN:DAYLIGHT
TZOFFSETFROM:-0400
TZOFFSETTO:-0300
TZNAME:ADT
DTSTART:20190310T060000
END:DAYLIGHT
BEGIN:STANDARD
TZOFFSETFROM:-0300
TZOFFSETTO:-0400
TZNAME:AST
DTSTART:20191103T050000
END:STANDARD
BEGIN:DAYLIGHT
TZOFFSETFROM:-0400
TZOFFSETTO:-0300
TZNAME:ADT
DTSTART:20200308T060000
END:DAYLIGHT
BEGIN:STANDARD
TZOFFSETFROM:-0300
TZOFFSETTO:-0400
TZNAME:AST
DTSTART:20201101T050000
END:STANDARD
END:VTIMEZONE
BEGIN:VEVENT
DTSTART;TZID=America/Halifax:20190531T160000
DTEND;TZID=America/Halifax:20190531T173000
DTSTAMP:20260422T153200
CREATED:20190409T033119Z
LAST-MODIFIED:20190420T212253Z
UID:10000192-1559318400-1559323800@mayworkskjipuktukhfx.ca
SUMMARY:Strange Froots & Zamani
DESCRIPTION:A Friday afternoon celebration of chill grooves and deep rhythms. Strange Froots are a trio of soul warriors from Montreal\, Canada featuring MCs Naïka Champaïgne\, SageS\, and Mags. Seamlessly blending traditions from their manifold perspectives of the Black diaspora (Haiti\, Ghana\, Jamaica and Senegal)\, the Froots’ music displays a disarming form of directness that allows them to communicate complex ideas with effortless allure. \n \nJoining them is local vocalist / songwriter / producer Zamani\, a young force combining the vibes of India Arie\, Solange\, Mariah Carey and more. At 18 years young\, Zamani’s smooth presence\, deft production work and striking vocals showcase a preternatural gift for music. Look out world! \nPlus\, a special performance from neighbourhood teens curated by Paint Cha A Pitcha Productions. There’ll be free snacks and craft supplies on hand for all to enjoy. \n*Rain Location at The Bus Stop Theatre (2203 Gottingen St) \n  \nPresented in partnership with 
URL:https://mayworkskjipuktukhfx.ca/event/strange-froots-zamani/
CATEGORIES:Music
ATTACH;FMTTYPE=image/png:https://mayworkskjipuktukhfx.ca/app/uploads/2019/03/StrangeFroots_Slide.png
END:VEVENT
BEGIN:VEVENT
DTSTART;TZID=America/Halifax:20190531T150000
DTEND;TZID=America/Halifax:20190531T160000
DTSTAMP:20260422T153200
CREATED:20190409T033056Z
LAST-MODIFIED:20190410T154332Z
UID:10000303-1559314800-1559318400@mayworkskjipuktukhfx.ca
SUMMARY:Iranian Music\, The Female Body and The Burden of Message
DESCRIPTION:Join Iranian academic and music researcher Hadi Milanloo along with local facilitator Carmel Farahbakhsh as they unpack Milanloo’s recent field research in Tehran. \nThis program explores Iranian female musicians and their relationship to an at-home and diasporic audience\, their visual identity in the context of unpredictable political climates\, and how their creative pursuits link and diverge from broader political and cultural contexts. Facilitated dialogue to follow. \nPresented in partnership with 
URL:https://mayworkskjipuktukhfx.ca/event/iranian-music-the-female-body-and-the-burden-of-message/
CATEGORIES:Spoken
ATTACH;FMTTYPE=image/jpeg:https://mayworkskjipuktukhfx.ca/app/uploads/2019/04/Hadi-e1554783581132.jpg
END:VEVENT
END:VCALENDAR