BEGIN:VCALENDAR
VERSION:2.0
PRODID:-//Mayworks Kjipuktuk-Halifax - ECPv6.15.20//NONSGML v1.0//EN
CALSCALE:GREGORIAN
METHOD:PUBLISH
X-ORIGINAL-URL:https://mayworkskjipuktukhfx.ca
X-WR-CALDESC:Events for Mayworks Kjipuktuk-Halifax
REFRESH-INTERVAL;VALUE=DURATION:PT1H
X-Robots-Tag:noindex
X-PUBLISHED-TTL:PT1H
BEGIN:VTIMEZONE
TZID:America/Halifax
BEGIN:DAYLIGHT
TZOFFSETFROM:-0400
TZOFFSETTO:-0300
TZNAME:ADT
DTSTART:20240310T060000
END:DAYLIGHT
BEGIN:STANDARD
TZOFFSETFROM:-0300
TZOFFSETTO:-0400
TZNAME:AST
DTSTART:20241103T050000
END:STANDARD
BEGIN:DAYLIGHT
TZOFFSETFROM:-0400
TZOFFSETTO:-0300
TZNAME:ADT
DTSTART:20250309T060000
END:DAYLIGHT
BEGIN:STANDARD
TZOFFSETFROM:-0300
TZOFFSETTO:-0400
TZNAME:AST
DTSTART:20251102T050000
END:STANDARD
BEGIN:DAYLIGHT
TZOFFSETFROM:-0400
TZOFFSETTO:-0300
TZNAME:ADT
DTSTART:20260308T060000
END:DAYLIGHT
BEGIN:STANDARD
TZOFFSETFROM:-0300
TZOFFSETTO:-0400
TZNAME:AST
DTSTART:20261101T050000
END:STANDARD
END:VTIMEZONE
BEGIN:VEVENT
DTSTART;VALUE=DATE:20250826
DTEND;VALUE=DATE:20250908
DTSTAMP:20260421T203021
CREATED:20250725T173805Z
LAST-MODIFIED:20250903T185618Z
UID:10000368-1756166400-1757289599@mayworkskjipuktukhfx.ca
SUMMARY:The Huns by Matchstick Theatre
DESCRIPTION:Matchstick Theatre presents Michael Ross Albert’s play The Huns in Neptune Theatre’s Craig Boardroom. A cutting office comedy and nuanced exploration of today’s working world\, The Huns is the first piece of Mayworks Kjipuktuk/Halifax’s new MOMENTUM programming. From August 26th to September 7th\, experience the Atlantic Canadian premiere of one of the country’s most exciting new playwrights. \nThree employees of a tech company—Shelley (Katerina Bakolias)\, Pete (Liam Fair)\, and Iris (Gil Anderson)—meet for an emergency conference call. Their office has been robbed and essential equipment is missing\, with Gen-Seven set to launch ON MONDAY! The three co-workers have their bosses and colleagues on the line—WHAT COULD GO WRONG?!  \nThe Huns is directed by Jake Planinc and designed by Jordan Palmer\, with Chelsea Dickie (Stage Manager) and Alex Mills (House Manager). Matchstick’s 70-minute production has fully accessible\, but extremely limited capacity. Tickets are $20 (with one PWYC preview on August 26th). \nPerformances are at 7:30PM Tuesday through Saturday and 2:00PM on Saturdays and Sundays. Please contact us in advance for accommodation at matchsticktheatre@gmail.com
URL:https://mayworkskjipuktukhfx.ca/event/the-huns/
LOCATION:Neptune Theatre – Craig Boardroom\, 1593 Argyle St\, Halifax\, Nova Scotia\, B3J 2B2\, Canada
CATEGORIES:Theatre
ATTACH;FMTTYPE=image/jpeg:https://mayworkskjipuktukhfx.ca/app/uploads/2025/07/HUNS_SQUARE_SOCIAL.jpg
ORGANIZER;CN="Matchstick Theatre":MAILTO:matchsticktheatre@gmail.com
END:VEVENT
END:VCALENDAR